BEGIN:VCALENDAR
VERSION:2.0
PRODID:-//All Roads Catholic Media - ECPv6.14.2//NONSGML v1.0//EN
CALSCALE:GREGORIAN
METHOD:PUBLISH
X-WR-CALNAME:All Roads Catholic Media
X-ORIGINAL-URL:https://allroadscatholicmedia.org
X-WR-CALDESC:Events for All Roads Catholic Media
REFRESH-INTERVAL;VALUE=DURATION:PT1H
X-Robots-Tag:noindex
X-PUBLISHED-TTL:PT1H
BEGIN:VTIMEZONE
TZID:America/Detroit
BEGIN:DAYLIGHT
TZOFFSETFROM:-0500
TZOFFSETTO:-0400
TZNAME:EDT
DTSTART:20280312T070000
END:DAYLIGHT
BEGIN:STANDARD
TZOFFSETFROM:-0400
TZOFFSETTO:-0500
TZNAME:EST
DTSTART:20281105T060000
END:STANDARD
BEGIN:DAYLIGHT
TZOFFSETFROM:-0500
TZOFFSETTO:-0400
TZNAME:EDT
DTSTART:20290311T070000
END:DAYLIGHT
BEGIN:STANDARD
TZOFFSETFROM:-0400
TZOFFSETTO:-0500
TZNAME:EST
DTSTART:20291104T060000
END:STANDARD
END:VTIMEZONE
BEGIN:VEVENT
DTSTART;TZID=America/Detroit:20281228T190000
DTEND;TZID=America/Detroit:20281228T210000
DTSTAMP:20260420T143127
CREATED:20250711T193855Z
LAST-MODIFIED:20250711T193855Z
UID:10000183-1861642800-1861650000@allroadscatholicmedia.org
SUMMARY:Tim4:12 Young Adult Group
DESCRIPTION:Timothy 4:12 is a Young Adult Group\, or Ministry\, aimed at fellowship of faithful young adults through Jesus Christ and The Holy Spirit. Events vary week-to-week including Bible Studies\, game night\, swingin’ sunday dance parties\, movies nights and bon fires. Subscribe to the Tim 4:12 email list to receive the most up-to-date information regarding the groups event and meeting place.  \nSUBSCRIBE
URL:https://allroadscatholicmedia.org/event/tim412-young-adult-group/2028-12-28/
LOCATION:Queen of the Miraculous Media Administrative Office
CATEGORIES:tim4:12
END:VEVENT
BEGIN:VEVENT
DTSTART;TZID=America/Detroit:20290104T190000
DTEND;TZID=America/Detroit:20290104T210000
DTSTAMP:20260420T143127
CREATED:20250711T193855Z
LAST-MODIFIED:20250711T193855Z
UID:10000184-1862247600-1862254800@allroadscatholicmedia.org
SUMMARY:Tim4:12 Young Adult Group
DESCRIPTION:Timothy 4:12 is a Young Adult Group\, or Ministry\, aimed at fellowship of faithful young adults through Jesus Christ and The Holy Spirit. Events vary week-to-week including Bible Studies\, game night\, swingin’ sunday dance parties\, movies nights and bon fires. Subscribe to the Tim 4:12 email list to receive the most up-to-date information regarding the groups event and meeting place.  \nSUBSCRIBE
URL:https://allroadscatholicmedia.org/event/tim412-young-adult-group/2029-01-04/
LOCATION:Queen of the Miraculous Media Administrative Office
CATEGORIES:tim4:12
END:VEVENT
BEGIN:VEVENT
DTSTART;TZID=America/Detroit:20290111T190000
DTEND;TZID=America/Detroit:20290111T210000
DTSTAMP:20260420T143127
CREATED:20250711T193855Z
LAST-MODIFIED:20250711T193855Z
UID:10000185-1862852400-1862859600@allroadscatholicmedia.org
SUMMARY:Tim4:12 Young Adult Group
DESCRIPTION:Timothy 4:12 is a Young Adult Group\, or Ministry\, aimed at fellowship of faithful young adults through Jesus Christ and The Holy Spirit. Events vary week-to-week including Bible Studies\, game night\, swingin’ sunday dance parties\, movies nights and bon fires. Subscribe to the Tim 4:12 email list to receive the most up-to-date information regarding the groups event and meeting place.  \nSUBSCRIBE
URL:https://allroadscatholicmedia.org/event/tim412-young-adult-group/2029-01-11/
LOCATION:Queen of the Miraculous Media Administrative Office
CATEGORIES:tim4:12
END:VEVENT
BEGIN:VEVENT
DTSTART;TZID=America/Detroit:20290118T190000
DTEND;TZID=America/Detroit:20290118T210000
DTSTAMP:20260420T143127
CREATED:20250711T193855Z
LAST-MODIFIED:20250711T193855Z
UID:10000186-1863457200-1863464400@allroadscatholicmedia.org
SUMMARY:Tim4:12 Young Adult Group
DESCRIPTION:Timothy 4:12 is a Young Adult Group\, or Ministry\, aimed at fellowship of faithful young adults through Jesus Christ and The Holy Spirit. Events vary week-to-week including Bible Studies\, game night\, swingin’ sunday dance parties\, movies nights and bon fires. Subscribe to the Tim 4:12 email list to receive the most up-to-date information regarding the groups event and meeting place.  \nSUBSCRIBE
URL:https://allroadscatholicmedia.org/event/tim412-young-adult-group/2029-01-18/
LOCATION:Queen of the Miraculous Media Administrative Office
CATEGORIES:tim4:12
END:VEVENT
BEGIN:VEVENT
DTSTART;TZID=America/Detroit:20290125T190000
DTEND;TZID=America/Detroit:20290125T210000
DTSTAMP:20260420T143127
CREATED:20250711T193855Z
LAST-MODIFIED:20250711T193855Z
UID:10000187-1864062000-1864069200@allroadscatholicmedia.org
SUMMARY:Tim4:12 Young Adult Group
DESCRIPTION:Timothy 4:12 is a Young Adult Group\, or Ministry\, aimed at fellowship of faithful young adults through Jesus Christ and The Holy Spirit. Events vary week-to-week including Bible Studies\, game night\, swingin’ sunday dance parties\, movies nights and bon fires. Subscribe to the Tim 4:12 email list to receive the most up-to-date information regarding the groups event and meeting place.  \nSUBSCRIBE
URL:https://allroadscatholicmedia.org/event/tim412-young-adult-group/2029-01-25/
LOCATION:Queen of the Miraculous Media Administrative Office
CATEGORIES:tim4:12
END:VEVENT
BEGIN:VEVENT
DTSTART;TZID=America/Detroit:20290201T190000
DTEND;TZID=America/Detroit:20290201T210000
DTSTAMP:20260420T143127
CREATED:20250711T193855Z
LAST-MODIFIED:20250711T193855Z
UID:10000188-1864666800-1864674000@allroadscatholicmedia.org
SUMMARY:Tim4:12 Young Adult Group
DESCRIPTION:Timothy 4:12 is a Young Adult Group\, or Ministry\, aimed at fellowship of faithful young adults through Jesus Christ and The Holy Spirit. Events vary week-to-week including Bible Studies\, game night\, swingin’ sunday dance parties\, movies nights and bon fires. Subscribe to the Tim 4:12 email list to receive the most up-to-date information regarding the groups event and meeting place.  \nSUBSCRIBE
URL:https://allroadscatholicmedia.org/event/tim412-young-adult-group/2029-02-01/
LOCATION:Queen of the Miraculous Media Administrative Office
CATEGORIES:tim4:12
END:VEVENT
BEGIN:VEVENT
DTSTART;TZID=America/Detroit:20290208T190000
DTEND;TZID=America/Detroit:20290208T210000
DTSTAMP:20260420T143127
CREATED:20250711T193855Z
LAST-MODIFIED:20250711T193855Z
UID:10000189-1865271600-1865278800@allroadscatholicmedia.org
SUMMARY:Tim4:12 Young Adult Group
DESCRIPTION:Timothy 4:12 is a Young Adult Group\, or Ministry\, aimed at fellowship of faithful young adults through Jesus Christ and The Holy Spirit. Events vary week-to-week including Bible Studies\, game night\, swingin’ sunday dance parties\, movies nights and bon fires. Subscribe to the Tim 4:12 email list to receive the most up-to-date information regarding the groups event and meeting place.  \nSUBSCRIBE
URL:https://allroadscatholicmedia.org/event/tim412-young-adult-group/2029-02-08/
LOCATION:Queen of the Miraculous Media Administrative Office
CATEGORIES:tim4:12
END:VEVENT
BEGIN:VEVENT
DTSTART;TZID=America/Detroit:20290215T190000
DTEND;TZID=America/Detroit:20290215T210000
DTSTAMP:20260420T143127
CREATED:20250711T193855Z
LAST-MODIFIED:20250711T193855Z
UID:10000190-1865876400-1865883600@allroadscatholicmedia.org
SUMMARY:Tim4:12 Young Adult Group
DESCRIPTION:Timothy 4:12 is a Young Adult Group\, or Ministry\, aimed at fellowship of faithful young adults through Jesus Christ and The Holy Spirit. Events vary week-to-week including Bible Studies\, game night\, swingin’ sunday dance parties\, movies nights and bon fires. Subscribe to the Tim 4:12 email list to receive the most up-to-date information regarding the groups event and meeting place.  \nSUBSCRIBE
URL:https://allroadscatholicmedia.org/event/tim412-young-adult-group/2029-02-15/
LOCATION:Queen of the Miraculous Media Administrative Office
CATEGORIES:tim4:12
END:VEVENT
BEGIN:VEVENT
DTSTART;TZID=America/Detroit:20290222T190000
DTEND;TZID=America/Detroit:20290222T210000
DTSTAMP:20260420T143127
CREATED:20250711T193855Z
LAST-MODIFIED:20250711T193855Z
UID:10000191-1866481200-1866488400@allroadscatholicmedia.org
SUMMARY:Tim4:12 Young Adult Group
DESCRIPTION:Timothy 4:12 is a Young Adult Group\, or Ministry\, aimed at fellowship of faithful young adults through Jesus Christ and The Holy Spirit. Events vary week-to-week including Bible Studies\, game night\, swingin’ sunday dance parties\, movies nights and bon fires. Subscribe to the Tim 4:12 email list to receive the most up-to-date information regarding the groups event and meeting place.  \nSUBSCRIBE
URL:https://allroadscatholicmedia.org/event/tim412-young-adult-group/2029-02-22/
LOCATION:Queen of the Miraculous Media Administrative Office
CATEGORIES:tim4:12
END:VEVENT
BEGIN:VEVENT
DTSTART;TZID=America/Detroit:20290301T190000
DTEND;TZID=America/Detroit:20290301T210000
DTSTAMP:20260420T143127
CREATED:20250711T193855Z
LAST-MODIFIED:20250711T193855Z
UID:10000192-1867086000-1867093200@allroadscatholicmedia.org
SUMMARY:Tim4:12 Young Adult Group
DESCRIPTION:Timothy 4:12 is a Young Adult Group\, or Ministry\, aimed at fellowship of faithful young adults through Jesus Christ and The Holy Spirit. Events vary week-to-week including Bible Studies\, game night\, swingin’ sunday dance parties\, movies nights and bon fires. Subscribe to the Tim 4:12 email list to receive the most up-to-date information regarding the groups event and meeting place.  \nSUBSCRIBE
URL:https://allroadscatholicmedia.org/event/tim412-young-adult-group/2029-03-01/
LOCATION:Queen of the Miraculous Media Administrative Office
CATEGORIES:tim4:12
END:VEVENT
BEGIN:VEVENT
DTSTART;TZID=America/Detroit:20290308T190000
DTEND;TZID=America/Detroit:20290308T210000
DTSTAMP:20260420T143127
CREATED:20250711T193855Z
LAST-MODIFIED:20250711T193855Z
UID:10000193-1867690800-1867698000@allroadscatholicmedia.org
SUMMARY:Tim4:12 Young Adult Group
DESCRIPTION:Timothy 4:12 is a Young Adult Group\, or Ministry\, aimed at fellowship of faithful young adults through Jesus Christ and The Holy Spirit. Events vary week-to-week including Bible Studies\, game night\, swingin’ sunday dance parties\, movies nights and bon fires. Subscribe to the Tim 4:12 email list to receive the most up-to-date information regarding the groups event and meeting place.  \nSUBSCRIBE
URL:https://allroadscatholicmedia.org/event/tim412-young-adult-group/2029-03-08/
LOCATION:Queen of the Miraculous Media Administrative Office
CATEGORIES:tim4:12
END:VEVENT
BEGIN:VEVENT
DTSTART;TZID=America/Detroit:20290315T190000
DTEND;TZID=America/Detroit:20290315T210000
DTSTAMP:20260420T143127
CREATED:20250711T193855Z
LAST-MODIFIED:20250711T193855Z
UID:10000194-1868295600-1868302800@allroadscatholicmedia.org
SUMMARY:Tim4:12 Young Adult Group
DESCRIPTION:Timothy 4:12 is a Young Adult Group\, or Ministry\, aimed at fellowship of faithful young adults through Jesus Christ and The Holy Spirit. Events vary week-to-week including Bible Studies\, game night\, swingin’ sunday dance parties\, movies nights and bon fires. Subscribe to the Tim 4:12 email list to receive the most up-to-date information regarding the groups event and meeting place.  \nSUBSCRIBE
URL:https://allroadscatholicmedia.org/event/tim412-young-adult-group/2029-03-15/
LOCATION:Queen of the Miraculous Media Administrative Office
CATEGORIES:tim4:12
END:VEVENT
BEGIN:VEVENT
DTSTART;TZID=America/Detroit:20290322T190000
DTEND;TZID=America/Detroit:20290322T210000
DTSTAMP:20260420T143127
CREATED:20250711T193855Z
LAST-MODIFIED:20250711T193855Z
UID:10000195-1868900400-1868907600@allroadscatholicmedia.org
SUMMARY:Tim4:12 Young Adult Group
DESCRIPTION:Timothy 4:12 is a Young Adult Group\, or Ministry\, aimed at fellowship of faithful young adults through Jesus Christ and The Holy Spirit. Events vary week-to-week including Bible Studies\, game night\, swingin’ sunday dance parties\, movies nights and bon fires. Subscribe to the Tim 4:12 email list to receive the most up-to-date information regarding the groups event and meeting place.  \nSUBSCRIBE
URL:https://allroadscatholicmedia.org/event/tim412-young-adult-group/2029-03-22/
LOCATION:Queen of the Miraculous Media Administrative Office
CATEGORIES:tim4:12
END:VEVENT
BEGIN:VEVENT
DTSTART;TZID=America/Detroit:20290329T190000
DTEND;TZID=America/Detroit:20290329T210000
DTSTAMP:20260420T143127
CREATED:20250711T193855Z
LAST-MODIFIED:20250711T193855Z
UID:10000196-1869505200-1869512400@allroadscatholicmedia.org
SUMMARY:Tim4:12 Young Adult Group
DESCRIPTION:Timothy 4:12 is a Young Adult Group\, or Ministry\, aimed at fellowship of faithful young adults through Jesus Christ and The Holy Spirit. Events vary week-to-week including Bible Studies\, game night\, swingin’ sunday dance parties\, movies nights and bon fires. Subscribe to the Tim 4:12 email list to receive the most up-to-date information regarding the groups event and meeting place.  \nSUBSCRIBE
URL:https://allroadscatholicmedia.org/event/tim412-young-adult-group/2029-03-29/
LOCATION:Queen of the Miraculous Media Administrative Office
CATEGORIES:tim4:12
END:VEVENT
BEGIN:VEVENT
DTSTART;TZID=America/Detroit:20290405T190000
DTEND;TZID=America/Detroit:20290405T210000
DTSTAMP:20260420T143127
CREATED:20250711T193855Z
LAST-MODIFIED:20250711T193855Z
UID:10000197-1870110000-1870117200@allroadscatholicmedia.org
SUMMARY:Tim4:12 Young Adult Group
DESCRIPTION:Timothy 4:12 is a Young Adult Group\, or Ministry\, aimed at fellowship of faithful young adults through Jesus Christ and The Holy Spirit. Events vary week-to-week including Bible Studies\, game night\, swingin’ sunday dance parties\, movies nights and bon fires. Subscribe to the Tim 4:12 email list to receive the most up-to-date information regarding the groups event and meeting place.  \nSUBSCRIBE
URL:https://allroadscatholicmedia.org/event/tim412-young-adult-group/2029-04-05/
LOCATION:Queen of the Miraculous Media Administrative Office
CATEGORIES:tim4:12
END:VEVENT
BEGIN:VEVENT
DTSTART;TZID=America/Detroit:20290412T190000
DTEND;TZID=America/Detroit:20290412T210000
DTSTAMP:20260420T143127
CREATED:20250711T193855Z
LAST-MODIFIED:20250711T193855Z
UID:10000198-1870714800-1870722000@allroadscatholicmedia.org
SUMMARY:Tim4:12 Young Adult Group
DESCRIPTION:Timothy 4:12 is a Young Adult Group\, or Ministry\, aimed at fellowship of faithful young adults through Jesus Christ and The Holy Spirit. Events vary week-to-week including Bible Studies\, game night\, swingin’ sunday dance parties\, movies nights and bon fires. Subscribe to the Tim 4:12 email list to receive the most up-to-date information regarding the groups event and meeting place.  \nSUBSCRIBE
URL:https://allroadscatholicmedia.org/event/tim412-young-adult-group/2029-04-12/
LOCATION:Queen of the Miraculous Media Administrative Office
CATEGORIES:tim4:12
END:VEVENT
BEGIN:VEVENT
DTSTART;TZID=America/Detroit:20290419T190000
DTEND;TZID=America/Detroit:20290419T210000
DTSTAMP:20260420T143127
CREATED:20250711T193855Z
LAST-MODIFIED:20250711T193855Z
UID:10000199-1871319600-1871326800@allroadscatholicmedia.org
SUMMARY:Tim4:12 Young Adult Group
DESCRIPTION:Timothy 4:12 is a Young Adult Group\, or Ministry\, aimed at fellowship of faithful young adults through Jesus Christ and The Holy Spirit. Events vary week-to-week including Bible Studies\, game night\, swingin’ sunday dance parties\, movies nights and bon fires. Subscribe to the Tim 4:12 email list to receive the most up-to-date information regarding the groups event and meeting place.  \nSUBSCRIBE
URL:https://allroadscatholicmedia.org/event/tim412-young-adult-group/2029-04-19/
LOCATION:Queen of the Miraculous Media Administrative Office
CATEGORIES:tim4:12
END:VEVENT
BEGIN:VEVENT
DTSTART;TZID=America/Detroit:20290426T190000
DTEND;TZID=America/Detroit:20290426T210000
DTSTAMP:20260420T143127
CREATED:20250711T193855Z
LAST-MODIFIED:20250711T193855Z
UID:10000200-1871924400-1871931600@allroadscatholicmedia.org
SUMMARY:Tim4:12 Young Adult Group
DESCRIPTION:Timothy 4:12 is a Young Adult Group\, or Ministry\, aimed at fellowship of faithful young adults through Jesus Christ and The Holy Spirit. Events vary week-to-week including Bible Studies\, game night\, swingin’ sunday dance parties\, movies nights and bon fires. Subscribe to the Tim 4:12 email list to receive the most up-to-date information regarding the groups event and meeting place.  \nSUBSCRIBE
URL:https://allroadscatholicmedia.org/event/tim412-young-adult-group/2029-04-26/
LOCATION:Queen of the Miraculous Media Administrative Office
CATEGORIES:tim4:12
END:VEVENT
BEGIN:VEVENT
DTSTART;TZID=America/Detroit:20290503T190000
DTEND;TZID=America/Detroit:20290503T210000
DTSTAMP:20260420T143127
CREATED:20250711T193855Z
LAST-MODIFIED:20250711T193855Z
UID:10000201-1872529200-1872536400@allroadscatholicmedia.org
SUMMARY:Tim4:12 Young Adult Group
DESCRIPTION:Timothy 4:12 is a Young Adult Group\, or Ministry\, aimed at fellowship of faithful young adults through Jesus Christ and The Holy Spirit. Events vary week-to-week including Bible Studies\, game night\, swingin’ sunday dance parties\, movies nights and bon fires. Subscribe to the Tim 4:12 email list to receive the most up-to-date information regarding the groups event and meeting place.  \nSUBSCRIBE
URL:https://allroadscatholicmedia.org/event/tim412-young-adult-group/2029-05-03/
LOCATION:Queen of the Miraculous Media Administrative Office
CATEGORIES:tim4:12
END:VEVENT
BEGIN:VEVENT
DTSTART;TZID=America/Detroit:20290510T190000
DTEND;TZID=America/Detroit:20290510T210000
DTSTAMP:20260420T143127
CREATED:20250711T193855Z
LAST-MODIFIED:20250711T193855Z
UID:10000202-1873134000-1873141200@allroadscatholicmedia.org
SUMMARY:Tim4:12 Young Adult Group
DESCRIPTION:Timothy 4:12 is a Young Adult Group\, or Ministry\, aimed at fellowship of faithful young adults through Jesus Christ and The Holy Spirit. Events vary week-to-week including Bible Studies\, game night\, swingin’ sunday dance parties\, movies nights and bon fires. Subscribe to the Tim 4:12 email list to receive the most up-to-date information regarding the groups event and meeting place.  \nSUBSCRIBE
URL:https://allroadscatholicmedia.org/event/tim412-young-adult-group/2029-05-10/
LOCATION:Queen of the Miraculous Media Administrative Office
CATEGORIES:tim4:12
END:VEVENT
BEGIN:VEVENT
DTSTART;TZID=America/Detroit:20290517T190000
DTEND;TZID=America/Detroit:20290517T210000
DTSTAMP:20260420T143127
CREATED:20250711T193855Z
LAST-MODIFIED:20250711T193855Z
UID:10000203-1873738800-1873746000@allroadscatholicmedia.org
SUMMARY:Tim4:12 Young Adult Group
DESCRIPTION:Timothy 4:12 is a Young Adult Group\, or Ministry\, aimed at fellowship of faithful young adults through Jesus Christ and The Holy Spirit. Events vary week-to-week including Bible Studies\, game night\, swingin’ sunday dance parties\, movies nights and bon fires. Subscribe to the Tim 4:12 email list to receive the most up-to-date information regarding the groups event and meeting place.  \nSUBSCRIBE
URL:https://allroadscatholicmedia.org/event/tim412-young-adult-group/2029-05-17/
LOCATION:Queen of the Miraculous Media Administrative Office
CATEGORIES:tim4:12
END:VEVENT
BEGIN:VEVENT
DTSTART;TZID=America/Detroit:20290524T190000
DTEND;TZID=America/Detroit:20290524T210000
DTSTAMP:20260420T143127
CREATED:20250711T193855Z
LAST-MODIFIED:20250711T193855Z
UID:10000204-1874343600-1874350800@allroadscatholicmedia.org
SUMMARY:Tim4:12 Young Adult Group
DESCRIPTION:Timothy 4:12 is a Young Adult Group\, or Ministry\, aimed at fellowship of faithful young adults through Jesus Christ and The Holy Spirit. Events vary week-to-week including Bible Studies\, game night\, swingin’ sunday dance parties\, movies nights and bon fires. Subscribe to the Tim 4:12 email list to receive the most up-to-date information regarding the groups event and meeting place.  \nSUBSCRIBE
URL:https://allroadscatholicmedia.org/event/tim412-young-adult-group/2029-05-24/
LOCATION:Queen of the Miraculous Media Administrative Office
CATEGORIES:tim4:12
END:VEVENT
BEGIN:VEVENT
DTSTART;TZID=America/Detroit:20290531T190000
DTEND;TZID=America/Detroit:20290531T210000
DTSTAMP:20260420T143127
CREATED:20250711T193855Z
LAST-MODIFIED:20250711T193855Z
UID:10000205-1874948400-1874955600@allroadscatholicmedia.org
SUMMARY:Tim4:12 Young Adult Group
DESCRIPTION:Timothy 4:12 is a Young Adult Group\, or Ministry\, aimed at fellowship of faithful young adults through Jesus Christ and The Holy Spirit. Events vary week-to-week including Bible Studies\, game night\, swingin’ sunday dance parties\, movies nights and bon fires. Subscribe to the Tim 4:12 email list to receive the most up-to-date information regarding the groups event and meeting place.  \nSUBSCRIBE
URL:https://allroadscatholicmedia.org/event/tim412-young-adult-group/2029-05-31/
LOCATION:Queen of the Miraculous Media Administrative Office
CATEGORIES:tim4:12
END:VEVENT
BEGIN:VEVENT
DTSTART;TZID=America/Detroit:20290607T190000
DTEND;TZID=America/Detroit:20290607T210000
DTSTAMP:20260420T143127
CREATED:20250711T193855Z
LAST-MODIFIED:20250711T193855Z
UID:10000206-1875553200-1875560400@allroadscatholicmedia.org
SUMMARY:Tim4:12 Young Adult Group
DESCRIPTION:Timothy 4:12 is a Young Adult Group\, or Ministry\, aimed at fellowship of faithful young adults through Jesus Christ and The Holy Spirit. Events vary week-to-week including Bible Studies\, game night\, swingin’ sunday dance parties\, movies nights and bon fires. Subscribe to the Tim 4:12 email list to receive the most up-to-date information regarding the groups event and meeting place.  \nSUBSCRIBE
URL:https://allroadscatholicmedia.org/event/tim412-young-adult-group/2029-06-07/
LOCATION:Queen of the Miraculous Media Administrative Office
CATEGORIES:tim4:12
END:VEVENT
BEGIN:VEVENT
DTSTART;TZID=America/Detroit:20290614T190000
DTEND;TZID=America/Detroit:20290614T210000
DTSTAMP:20260420T143127
CREATED:20250711T193855Z
LAST-MODIFIED:20250711T193855Z
UID:10000207-1876158000-1876165200@allroadscatholicmedia.org
SUMMARY:Tim4:12 Young Adult Group
DESCRIPTION:Timothy 4:12 is a Young Adult Group\, or Ministry\, aimed at fellowship of faithful young adults through Jesus Christ and The Holy Spirit. Events vary week-to-week including Bible Studies\, game night\, swingin’ sunday dance parties\, movies nights and bon fires. Subscribe to the Tim 4:12 email list to receive the most up-to-date information regarding the groups event and meeting place.  \nSUBSCRIBE
URL:https://allroadscatholicmedia.org/event/tim412-young-adult-group/2029-06-14/
LOCATION:Queen of the Miraculous Media Administrative Office
CATEGORIES:tim4:12
END:VEVENT
BEGIN:VEVENT
DTSTART;TZID=America/Detroit:20290621T190000
DTEND;TZID=America/Detroit:20290621T210000
DTSTAMP:20260420T143127
CREATED:20250711T193855Z
LAST-MODIFIED:20250711T193855Z
UID:10000208-1876762800-1876770000@allroadscatholicmedia.org
SUMMARY:Tim4:12 Young Adult Group
DESCRIPTION:Timothy 4:12 is a Young Adult Group\, or Ministry\, aimed at fellowship of faithful young adults through Jesus Christ and The Holy Spirit. Events vary week-to-week including Bible Studies\, game night\, swingin’ sunday dance parties\, movies nights and bon fires. Subscribe to the Tim 4:12 email list to receive the most up-to-date information regarding the groups event and meeting place.  \nSUBSCRIBE
URL:https://allroadscatholicmedia.org/event/tim412-young-adult-group/2029-06-21/
LOCATION:Queen of the Miraculous Media Administrative Office
CATEGORIES:tim4:12
END:VEVENT
BEGIN:VEVENT
DTSTART;TZID=America/Detroit:20290628T190000
DTEND;TZID=America/Detroit:20290628T210000
DTSTAMP:20260420T143127
CREATED:20250711T193855Z
LAST-MODIFIED:20250711T193855Z
UID:10000209-1877367600-1877374800@allroadscatholicmedia.org
SUMMARY:Tim4:12 Young Adult Group
DESCRIPTION:Timothy 4:12 is a Young Adult Group\, or Ministry\, aimed at fellowship of faithful young adults through Jesus Christ and The Holy Spirit. Events vary week-to-week including Bible Studies\, game night\, swingin’ sunday dance parties\, movies nights and bon fires. Subscribe to the Tim 4:12 email list to receive the most up-to-date information regarding the groups event and meeting place.  \nSUBSCRIBE
URL:https://allroadscatholicmedia.org/event/tim412-young-adult-group/2029-06-28/
LOCATION:Queen of the Miraculous Media Administrative Office
CATEGORIES:tim4:12
END:VEVENT
BEGIN:VEVENT
DTSTART;TZID=America/Detroit:20290705T190000
DTEND;TZID=America/Detroit:20290705T210000
DTSTAMP:20260420T143127
CREATED:20250711T193855Z
LAST-MODIFIED:20250711T193855Z
UID:10000210-1877972400-1877979600@allroadscatholicmedia.org
SUMMARY:Tim4:12 Young Adult Group
DESCRIPTION:Timothy 4:12 is a Young Adult Group\, or Ministry\, aimed at fellowship of faithful young adults through Jesus Christ and The Holy Spirit. Events vary week-to-week including Bible Studies\, game night\, swingin’ sunday dance parties\, movies nights and bon fires. Subscribe to the Tim 4:12 email list to receive the most up-to-date information regarding the groups event and meeting place.  \nSUBSCRIBE
URL:https://allroadscatholicmedia.org/event/tim412-young-adult-group/2029-07-05/
LOCATION:Queen of the Miraculous Media Administrative Office
CATEGORIES:tim4:12
END:VEVENT
BEGIN:VEVENT
DTSTART;TZID=America/Detroit:20290712T190000
DTEND;TZID=America/Detroit:20290712T210000
DTSTAMP:20260420T143127
CREATED:20250711T193855Z
LAST-MODIFIED:20250711T193855Z
UID:10000211-1878577200-1878584400@allroadscatholicmedia.org
SUMMARY:Tim4:12 Young Adult Group
DESCRIPTION:Timothy 4:12 is a Young Adult Group\, or Ministry\, aimed at fellowship of faithful young adults through Jesus Christ and The Holy Spirit. Events vary week-to-week including Bible Studies\, game night\, swingin’ sunday dance parties\, movies nights and bon fires. Subscribe to the Tim 4:12 email list to receive the most up-to-date information regarding the groups event and meeting place.  \nSUBSCRIBE
URL:https://allroadscatholicmedia.org/event/tim412-young-adult-group/2029-07-12/
LOCATION:Queen of the Miraculous Media Administrative Office
CATEGORIES:tim4:12
END:VEVENT
BEGIN:VEVENT
DTSTART;TZID=America/Detroit:20290719T190000
DTEND;TZID=America/Detroit:20290719T210000
DTSTAMP:20260420T143127
CREATED:20250711T193855Z
LAST-MODIFIED:20250711T193855Z
UID:10000212-1879182000-1879189200@allroadscatholicmedia.org
SUMMARY:Tim4:12 Young Adult Group
DESCRIPTION:Timothy 4:12 is a Young Adult Group\, or Ministry\, aimed at fellowship of faithful young adults through Jesus Christ and The Holy Spirit. Events vary week-to-week including Bible Studies\, game night\, swingin’ sunday dance parties\, movies nights and bon fires. Subscribe to the Tim 4:12 email list to receive the most up-to-date information regarding the groups event and meeting place.  \nSUBSCRIBE
URL:https://allroadscatholicmedia.org/event/tim412-young-adult-group/2029-07-19/
LOCATION:Queen of the Miraculous Media Administrative Office
CATEGORIES:tim4:12
END:VEVENT
END:VCALENDAR