BEGIN:VCALENDAR
VERSION:2.0
PRODID:-//All Roads Catholic Media - ECPv6.14.2//NONSGML v1.0//EN
CALSCALE:GREGORIAN
METHOD:PUBLISH
X-ORIGINAL-URL:https://allroadscatholicmedia.org
X-WR-CALDESC:Events for All Roads Catholic Media
REFRESH-INTERVAL;VALUE=DURATION:PT1H
X-Robots-Tag:noindex
X-PUBLISHED-TTL:PT1H
BEGIN:VTIMEZONE
TZID:America/Detroit
BEGIN:DAYLIGHT
TZOFFSETFROM:-0500
TZOFFSETTO:-0400
TZNAME:EDT
DTSTART:20260308T070000
END:DAYLIGHT
BEGIN:STANDARD
TZOFFSETFROM:-0400
TZOFFSETTO:-0500
TZNAME:EST
DTSTART:20261101T060000
END:STANDARD
END:VTIMEZONE
BEGIN:VEVENT
DTSTART;TZID=America/Detroit:20260101T190000
DTEND;TZID=America/Detroit:20260101T210000
DTSTAMP:20260420T150332
CREATED:20250711T193855Z
LAST-MODIFIED:20250711T193855Z
UID:10000027-1767294000-1767301200@allroadscatholicmedia.org
SUMMARY:Tim4:12 Young Adult Group
DESCRIPTION:Timothy 4:12 is a Young Adult Group\, or Ministry\, aimed at fellowship of faithful young adults through Jesus Christ and The Holy Spirit. Events vary week-to-week including Bible Studies\, game night\, swingin’ sunday dance parties\, movies nights and bon fires. Subscribe to the Tim 4:12 email list to receive the most up-to-date information regarding the groups event and meeting place.  \nSUBSCRIBE
URL:https://allroadscatholicmedia.org/event/tim412-young-adult-group/2026-01-01/
LOCATION:Queen of the Miraculous Media Administrative Office
CATEGORIES:tim4:12
END:VEVENT
BEGIN:VEVENT
DTSTART;TZID=America/Detroit:20260108T190000
DTEND;TZID=America/Detroit:20260108T210000
DTSTAMP:20260420T150332
CREATED:20250711T193855Z
LAST-MODIFIED:20250711T193855Z
UID:10000028-1767898800-1767906000@allroadscatholicmedia.org
SUMMARY:Tim4:12 Young Adult Group
DESCRIPTION:Timothy 4:12 is a Young Adult Group\, or Ministry\, aimed at fellowship of faithful young adults through Jesus Christ and The Holy Spirit. Events vary week-to-week including Bible Studies\, game night\, swingin’ sunday dance parties\, movies nights and bon fires. Subscribe to the Tim 4:12 email list to receive the most up-to-date information regarding the groups event and meeting place.  \nSUBSCRIBE
URL:https://allroadscatholicmedia.org/event/tim412-young-adult-group/2026-01-08/
LOCATION:Queen of the Miraculous Media Administrative Office
CATEGORIES:tim4:12
END:VEVENT
BEGIN:VEVENT
DTSTART;TZID=America/Detroit:20260115T190000
DTEND;TZID=America/Detroit:20260115T210000
DTSTAMP:20260420T150332
CREATED:20250711T193855Z
LAST-MODIFIED:20250711T193855Z
UID:10000029-1768503600-1768510800@allroadscatholicmedia.org
SUMMARY:Tim4:12 Young Adult Group
DESCRIPTION:Timothy 4:12 is a Young Adult Group\, or Ministry\, aimed at fellowship of faithful young adults through Jesus Christ and The Holy Spirit. Events vary week-to-week including Bible Studies\, game night\, swingin’ sunday dance parties\, movies nights and bon fires. Subscribe to the Tim 4:12 email list to receive the most up-to-date information regarding the groups event and meeting place.  \nSUBSCRIBE
URL:https://allroadscatholicmedia.org/event/tim412-young-adult-group/2026-01-15/
LOCATION:Queen of the Miraculous Media Administrative Office
CATEGORIES:tim4:12
END:VEVENT
BEGIN:VEVENT
DTSTART;TZID=America/Detroit:20260122T190000
DTEND;TZID=America/Detroit:20260122T210000
DTSTAMP:20260420T150332
CREATED:20250711T193855Z
LAST-MODIFIED:20250711T193855Z
UID:10000030-1769108400-1769115600@allroadscatholicmedia.org
SUMMARY:Tim4:12 Young Adult Group
DESCRIPTION:Timothy 4:12 is a Young Adult Group\, or Ministry\, aimed at fellowship of faithful young adults through Jesus Christ and The Holy Spirit. Events vary week-to-week including Bible Studies\, game night\, swingin’ sunday dance parties\, movies nights and bon fires. Subscribe to the Tim 4:12 email list to receive the most up-to-date information regarding the groups event and meeting place.  \nSUBSCRIBE
URL:https://allroadscatholicmedia.org/event/tim412-young-adult-group/2026-01-22/
LOCATION:Queen of the Miraculous Media Administrative Office
CATEGORIES:tim4:12
END:VEVENT
BEGIN:VEVENT
DTSTART;TZID=America/Detroit:20260129T190000
DTEND;TZID=America/Detroit:20260129T210000
DTSTAMP:20260420T150332
CREATED:20250711T193855Z
LAST-MODIFIED:20250711T193855Z
UID:10000031-1769713200-1769720400@allroadscatholicmedia.org
SUMMARY:Tim4:12 Young Adult Group
DESCRIPTION:Timothy 4:12 is a Young Adult Group\, or Ministry\, aimed at fellowship of faithful young adults through Jesus Christ and The Holy Spirit. Events vary week-to-week including Bible Studies\, game night\, swingin’ sunday dance parties\, movies nights and bon fires. Subscribe to the Tim 4:12 email list to receive the most up-to-date information regarding the groups event and meeting place.  \nSUBSCRIBE
URL:https://allroadscatholicmedia.org/event/tim412-young-adult-group/2026-01-29/
LOCATION:Queen of the Miraculous Media Administrative Office
CATEGORIES:tim4:12
END:VEVENT
END:VCALENDAR